BEGIN:VCALENDAR
VERSION:2.0
PRODID:-//ISKCON north - ECPv6.10.1.1//NONSGML v1.0//EN
CALSCALE:GREGORIAN
METHOD:PUBLISH
X-WR-CALNAME:ISKCON north
X-ORIGINAL-URL:https://iskconnorth.com
X-WR-CALDESC:Events for ISKCON north
REFRESH-INTERVAL;VALUE=DURATION:PT1H
X-Robots-Tag:noindex
X-PUBLISHED-TTL:PT1H
BEGIN:VTIMEZONE
TZID:America/Toronto
BEGIN:DAYLIGHT
TZOFFSETFROM:-0500
TZOFFSETTO:-0400
TZNAME:EDT
DTSTART:20260308T070000
END:DAYLIGHT
BEGIN:STANDARD
TZOFFSETFROM:-0400
TZOFFSETTO:-0500
TZNAME:EST
DTSTART:20261101T060000
END:STANDARD
END:VTIMEZONE
BEGIN:VEVENT
DTSTART;VALUE=DATE:20260822
DTEND;VALUE=DATE:20260823
DTSTAMP:20260425T105749
CREATED:20260115T000023Z
LAST-MODIFIED:20260115T000023Z
UID:1302-1787356800-1787443199@iskconnorth.com
SUMMARY:Burlington RY
DESCRIPTION:
URL:https://iskconnorth.com/event/burlington-ry/
CATEGORIES:Ratha Yatra
END:VEVENT
BEGIN:VEVENT
DTSTART;VALUE=DATE:20260822
DTEND;VALUE=DATE:20260823
DTSTAMP:20260425T105749
CREATED:20260420T221739Z
LAST-MODIFIED:20260420T221739Z
UID:1353-1787356800-1787443199@iskconnorth.com
SUMMARY:Mississauga Festival of JOY
DESCRIPTION:
URL:https://iskconnorth.com/event/mississauga-festival-of-joy/
CATEGORIES:Ratha Yatra
END:VEVENT
END:VCALENDAR