BEGIN:VCALENDAR
VERSION:2.0
PRODID:-//ISKCON north - ECPv6.10.1.1//NONSGML v1.0//EN
CALSCALE:GREGORIAN
METHOD:PUBLISH
X-WR-CALNAME:ISKCON north
X-ORIGINAL-URL:https://iskconnorth.com
X-WR-CALDESC:Events for ISKCON north
REFRESH-INTERVAL;VALUE=DURATION:PT1H
X-Robots-Tag:noindex
X-PUBLISHED-TTL:PT1H
BEGIN:VTIMEZONE
TZID:America/Toronto
BEGIN:DAYLIGHT
TZOFFSETFROM:-0500
TZOFFSETTO:-0400
TZNAME:EDT
DTSTART:20250309T070000
END:DAYLIGHT
BEGIN:STANDARD
TZOFFSETFROM:-0400
TZOFFSETTO:-0500
TZNAME:EST
DTSTART:20251102T060000
END:STANDARD
END:VTIMEZONE
BEGIN:VEVENT
DTSTART;VALUE=DATE:20250622
DTEND;VALUE=DATE:20250623
DTSTAMP:20260425T092015
CREATED:20250111T215712Z
LAST-MODIFIED:20250118T220822Z
UID:655-1750550400-1750636799@iskconnorth.com
SUMMARY:Calgary RY
DESCRIPTION:
URL:https://iskconnorth.com/event/iskcon-calgary/
CATEGORIES:Ratha Yatra
END:VEVENT
BEGIN:VEVENT
DTSTART;VALUE=DATE:20250621
DTEND;VALUE=DATE:20250622
DTSTAMP:20260425T092015
CREATED:20250609T234915Z
LAST-MODIFIED:20250609T234915Z
UID:1080-1750464000-1750550399@iskconnorth.com
SUMMARY:Barrie RY
DESCRIPTION:
URL:https://iskconnorth.com/event/barrie-ry/
CATEGORIES:Ratha Yatra
END:VEVENT
BEGIN:VEVENT
DTSTART;VALUE=DATE:20250607
DTEND;VALUE=DATE:20250608
DTSTAMP:20260425T092015
CREATED:20250318T194126Z
LAST-MODIFIED:20250327T163856Z
UID:845-1749254400-1749340799@iskconnorth.com
SUMMARY:Halifax RY
DESCRIPTION:
URL:https://iskconnorth.com/event/halifax-ry/
CATEGORIES:Ratha Yatra
END:VEVENT
BEGIN:VEVENT
DTSTART;VALUE=DATE:20250417
DTEND;VALUE=DATE:20250421
DTSTAMP:20260425T092015
CREATED:20250118T215423Z
LAST-MODIFIED:20250218T204020Z
UID:698-1744848000-1745193599@iskconnorth.com
SUMMARY:ISKCON Leadership Management Course
DESCRIPTION:
URL:https://iskconnorth.com/event/iskcon-leadership-management-course/
CATEGORIES:Training
END:VEVENT
BEGIN:VEVENT
DTSTART;VALUE=DATE:20250405
DTEND;VALUE=DATE:20250406
DTSTAMP:20260425T092015
CREATED:20250118T221712Z
LAST-MODIFIED:20250218T203853Z
UID:709-1743811200-1743897599@iskconnorth.com
SUMMARY:ITSO - ISKCON Temple of Southern Ontario Meeting
DESCRIPTION:Meeting in Muskoka
URL:https://iskconnorth.com/event/iskcon-temple-of-southern-ontario-itso/
CATEGORIES:Meeting
END:VEVENT
END:VCALENDAR