BEGIN:VCALENDAR
VERSION:2.0
PRODID:-//ISKCON north - ECPv6.10.1.1//NONSGML v1.0//EN
CALSCALE:GREGORIAN
METHOD:PUBLISH
X-WR-CALNAME:ISKCON north
X-ORIGINAL-URL:https://iskconnorth.com
X-WR-CALDESC:Events for ISKCON north
REFRESH-INTERVAL;VALUE=DURATION:PT1H
X-Robots-Tag:noindex
X-PUBLISHED-TTL:PT1H
BEGIN:VTIMEZONE
TZID:America/Toronto
BEGIN:DAYLIGHT
TZOFFSETFROM:-0500
TZOFFSETTO:-0400
TZNAME:EDT
DTSTART:20250309T070000
END:DAYLIGHT
BEGIN:STANDARD
TZOFFSETFROM:-0400
TZOFFSETTO:-0500
TZNAME:EST
DTSTART:20251102T060000
END:STANDARD
BEGIN:DAYLIGHT
TZOFFSETFROM:-0500
TZOFFSETTO:-0400
TZNAME:EDT
DTSTART:20260308T070000
END:DAYLIGHT
BEGIN:STANDARD
TZOFFSETFROM:-0400
TZOFFSETTO:-0500
TZNAME:EST
DTSTART:20261101T060000
END:STANDARD
END:VTIMEZONE
BEGIN:VEVENT
DTSTART;VALUE=DATE:20260402
DTEND;VALUE=DATE:20260406
DTSTAMP:20260424T114811
CREATED:20260119T214827Z
LAST-MODIFIED:20260119T214827Z
UID:1310-1775088000-1775433599@iskconnorth.com
SUMMARY:Leadership Training - Montreal
DESCRIPTION:
URL:https://iskconnorth.com/event/leadership-training-montreal/
CATEGORIES:Training
END:VEVENT
BEGIN:VEVENT
DTSTART;TZID=America/Toronto:20251106T080000
DTEND;TZID=America/Toronto:20251109T170000
DTSTAMP:20260424T114811
CREATED:20250118T221803Z
LAST-MODIFIED:20250118T222334Z
UID:711-1762416000-1762707600@iskconnorth.com
SUMMARY:Zone 1 Leadership Meeting
DESCRIPTION:Montreal
URL:https://iskconnorth.com/event/zone-1-leadership-meeting/
CATEGORIES:Meeting
END:VEVENT
BEGIN:VEVENT
DTSTART;VALUE=DATE:20250906
DTEND;VALUE=DATE:20250907
DTSTAMP:20260424T114811
CREATED:20250425T205631Z
LAST-MODIFIED:20250425T205631Z
UID:938-1757116800-1757203199@iskconnorth.com
SUMMARY:Festival of Joy - Mississauga
DESCRIPTION:
URL:https://iskconnorth.com/event/festival-of-joy-mississauga/
CATEGORIES:Ratha Yatra
END:VEVENT
BEGIN:VEVENT
DTSTART;VALUE=DATE:20250823
DTEND;VALUE=DATE:20250824
DTSTAMP:20260424T114811
CREATED:20250318T194317Z
LAST-MODIFIED:20250318T194317Z
UID:849-1755907200-1755993599@iskconnorth.com
SUMMARY:Ottawa RY
DESCRIPTION:
URL:https://iskconnorth.com/event/ottawa-ry/
CATEGORIES:Ratha Yatra
END:VEVENT
BEGIN:VEVENT
DTSTART;VALUE=DATE:20250823
DTEND;VALUE=DATE:20250825
DTSTAMP:20260424T114811
CREATED:20250111T220156Z
LAST-MODIFIED:20250318T212829Z
UID:674-1755907200-1756079999@iskconnorth.com
SUMMARY:Vancouver RY
DESCRIPTION:
URL:https://iskconnorth.com/event/vancouver/
CATEGORIES:Ratha Yatra
END:VEVENT
BEGIN:VEVENT
DTSTART;VALUE=DATE:20250809
DTEND;VALUE=DATE:20250810
DTSTAMP:20260424T114811
CREATED:20250118T221524Z
LAST-MODIFIED:20250118T221527Z
UID:707-1754697600-1754783999@iskconnorth.com
SUMMARY:Scarborough RY
DESCRIPTION:
URL:https://iskconnorth.com/event/scarborough-ry/
CATEGORIES:Ratha Yatra
END:VEVENT
BEGIN:VEVENT
DTSTART;VALUE=DATE:20250802
DTEND;VALUE=DATE:20250803
DTSTAMP:20260424T114811
CREATED:20250318T194227Z
LAST-MODIFIED:20250318T194227Z
UID:847-1754092800-1754179199@iskconnorth.com
SUMMARY:Grand Prairie RY
DESCRIPTION:
URL:https://iskconnorth.com/event/grand-prairie-ry/
CATEGORIES:Ratha Yatra
END:VEVENT
BEGIN:VEVENT
DTSTART;VALUE=DATE:20250727
DTEND;VALUE=DATE:20250728
DTSTAMP:20260424T114811
CREATED:20250609T235435Z
LAST-MODIFIED:20250609T235435Z
UID:1084-1753574400-1753660799@iskconnorth.com
SUMMARY:Stouffville RY
DESCRIPTION:
URL:https://iskconnorth.com/event/stouffville-ry/
CATEGORIES:Ratha Yatra
END:VEVENT
BEGIN:VEVENT
DTSTART;VALUE=DATE:20250727
DTEND;VALUE=DATE:20250728
DTSTAMP:20260424T114811
CREATED:20250124T165429Z
LAST-MODIFIED:20250124T165509Z
UID:729-1753574400-1753660799@iskconnorth.com
SUMMARY:Saskatoon RY
DESCRIPTION:
URL:https://iskconnorth.com/event/saskatoon-ry/
CATEGORIES:Ratha Yatra
END:VEVENT
BEGIN:VEVENT
DTSTART;VALUE=DATE:20250726
DTEND;VALUE=DATE:20250727
DTSTAMP:20260424T114811
CREATED:20250118T221451Z
LAST-MODIFIED:20250118T221454Z
UID:705-1753488000-1753574399@iskconnorth.com
SUMMARY:Brampton RY
DESCRIPTION:
URL:https://iskconnorth.com/event/brampton-ry/
CATEGORIES:Ratha Yatra
END:VEVENT
BEGIN:VEVENT
DTSTART;VALUE=DATE:20250726
DTEND;VALUE=DATE:20250727
DTSTAMP:20260424T114811
CREATED:20250111T220137Z
LAST-MODIFIED:20250118T220822Z
UID:672-1753488000-1753574399@iskconnorth.com
SUMMARY:Edmonton RY
DESCRIPTION:
URL:https://iskconnorth.com/event/edmonton/
CATEGORIES:Ratha Yatra
END:VEVENT
BEGIN:VEVENT
DTSTART;VALUE=DATE:20250720
DTEND;VALUE=DATE:20250721
DTSTAMP:20260424T114811
CREATED:20250117T162605Z
LAST-MODIFIED:20250118T220822Z
UID:688-1752969600-1753055999@iskconnorth.com
SUMMARY:Corcoran Minnesota RY
DESCRIPTION:
URL:https://iskconnorth.com/event/corcoran-minnesota/
CATEGORIES:Ratha Yatra
END:VEVENT
BEGIN:VEVENT
DTSTART;VALUE=DATE:20250720
DTEND;VALUE=DATE:20250721
DTSTAMP:20260424T114811
CREATED:20250318T193015Z
LAST-MODIFIED:20250701T020401Z
UID:843-1752969600-1753055999@iskconnorth.com
SUMMARY:Durham RY
DESCRIPTION:
URL:https://iskconnorth.com/event/durham-ry/
CATEGORIES:Ratha Yatra
END:VEVENT
BEGIN:VEVENT
DTSTART;TZID=America/Toronto:20250719T000000
DTEND;TZID=America/Toronto:20250720T235900
DTSTAMP:20260424T114811
CREATED:20250111T220116Z
LAST-MODIFIED:20250124T165807Z
UID:670-1752883200-1753055940@iskconnorth.com
SUMMARY:Thunder Bay RY
DESCRIPTION:
URL:https://iskconnorth.com/event/thunder-bay/
CATEGORIES:Ratha Yatra
END:VEVENT
BEGIN:VEVENT
DTSTART;VALUE=DATE:20250719
DTEND;VALUE=DATE:20250720
DTSTAMP:20260424T114811
CREATED:20250111T215933Z
LAST-MODIFIED:20250118T220822Z
UID:663-1752883200-1752969599@iskconnorth.com
SUMMARY:Red Deer RY
DESCRIPTION:
URL:https://iskconnorth.com/event/red-deer/
CATEGORIES:Ratha Yatra
END:VEVENT
BEGIN:VEVENT
DTSTART;VALUE=DATE:20250712
DTEND;VALUE=DATE:20250714
DTSTAMP:20260424T114811
CREATED:20250110T235648Z
LAST-MODIFIED:20250118T220822Z
UID:639-1752278400-1752451199@iskconnorth.com
SUMMARY:Toronto RY
DESCRIPTION:
URL:https://iskconnorth.com/event/toronto-ry/
CATEGORIES:Ratha Yatra
END:VEVENT
BEGIN:VEVENT
DTSTART;VALUE=DATE:20250712
DTEND;VALUE=DATE:20250713
DTSTAMP:20260424T114811
CREATED:20250124T165313Z
LAST-MODIFIED:20250124T165515Z
UID:727-1752278400-1752364799@iskconnorth.com
SUMMARY:Minnesota - Minneapolis RY
DESCRIPTION:
URL:https://iskconnorth.com/event/minnesota-minneapolis-ry/
CATEGORIES:Ratha Yatra
END:VEVENT
BEGIN:VEVENT
DTSTART;TZID=America/Toronto:20250706T000000
DTEND;TZID=America/Toronto:20250707T235900
DTSTAMP:20260424T114811
CREATED:20250124T165224Z
LAST-MODIFIED:20250609T234723Z
UID:725-1751760000-1751932740@iskconnorth.com
SUMMARY:Montreal RY
DESCRIPTION:
URL:https://iskconnorth.com/event/montreal-ry/
CATEGORIES:Ratha Yatra
END:VEVENT
BEGIN:VEVENT
DTSTART;TZID=America/Toronto:20250705T000000
DTEND;TZID=America/Toronto:20250706T235900
DTSTAMP:20260424T114811
CREATED:20250117T162527Z
LAST-MODIFIED:20250124T165901Z
UID:686-1751673600-1751846340@iskconnorth.com
SUMMARY:Winnipeg RY
DESCRIPTION:
URL:https://iskconnorth.com/event/winnipeg-ry/
CATEGORIES:Ratha Yatra
END:VEVENT
BEGIN:VEVENT
DTSTART;VALUE=DATE:20250705
DTEND;VALUE=DATE:20250706
DTSTAMP:20260424T114811
CREATED:20250111T215842Z
LAST-MODIFIED:20250118T220822Z
UID:661-1751673600-1751759999@iskconnorth.com
SUMMARY:Oakville RY
DESCRIPTION:
URL:https://iskconnorth.com/event/iskcon-oakville/
CATEGORIES:Ratha Yatra
END:VEVENT
BEGIN:VEVENT
DTSTART;TZID=America/Toronto:20250629T160000
DTEND;TZID=America/Toronto:20250629T200000
DTSTAMP:20260424T114811
CREATED:20250427T000833Z
LAST-MODIFIED:20250427T000913Z
UID:951-1751212800-1751227200@iskconnorth.com
SUMMARY:Niagara Festival of Colors and Kids RY
DESCRIPTION:
URL:https://iskconnorth.com/event/niagara-festival-of-colors-and-kids-ry/
CATEGORIES:Ratha Yatra
END:VEVENT
BEGIN:VEVENT
DTSTART;VALUE=DATE:20250629
DTEND;VALUE=DATE:20250630
DTSTAMP:20260424T114811
CREATED:20250124T165143Z
LAST-MODIFIED:20250124T165526Z
UID:723-1751155200-1751241599@iskconnorth.com
SUMMARY:Saranagati RY
DESCRIPTION:
URL:https://iskconnorth.com/event/saranagati-ry/
CATEGORIES:Ratha Yatra
END:VEVENT
BEGIN:VEVENT
DTSTART;VALUE=DATE:20250629
DTEND;VALUE=DATE:20250630
DTSTAMP:20260424T114811
CREATED:20250111T215818Z
LAST-MODIFIED:20250118T220822Z
UID:659-1751155200-1751241599@iskconnorth.com
SUMMARY:Burlington RY
DESCRIPTION:
URL:https://iskconnorth.com/event/iskcon-burlington/
CATEGORIES:Ratha Yatra
END:VEVENT
BEGIN:VEVENT
DTSTART;VALUE=DATE:20250628
DTEND;VALUE=DATE:20250629
DTSTAMP:20260424T114811
CREATED:20250111T215748Z
LAST-MODIFIED:20250118T220822Z
UID:657-1751068800-1751155199@iskconnorth.com
SUMMARY:Milton RY
DESCRIPTION:
URL:https://iskconnorth.com/event/iskcon-milton/
CATEGORIES:Ratha Yatra
END:VEVENT
BEGIN:VEVENT
DTSTART;VALUE=DATE:20250622
DTEND;VALUE=DATE:20250623
DTSTAMP:20260424T114811
CREATED:20250609T235007Z
LAST-MODIFIED:20250609T235007Z
UID:1082-1750550400-1750636799@iskconnorth.com
SUMMARY:Kelowna BC RY
DESCRIPTION:
URL:https://iskconnorth.com/event/kelowna-bc-ry/
CATEGORIES:Ratha Yatra
END:VEVENT
BEGIN:VEVENT
DTSTART;VALUE=DATE:20250622
DTEND;VALUE=DATE:20250623
DTSTAMP:20260424T114811
CREATED:20250111T215712Z
LAST-MODIFIED:20250118T220822Z
UID:655-1750550400-1750636799@iskconnorth.com
SUMMARY:Calgary RY
DESCRIPTION:
URL:https://iskconnorth.com/event/iskcon-calgary/
CATEGORIES:Ratha Yatra
END:VEVENT
BEGIN:VEVENT
DTSTART;VALUE=DATE:20250621
DTEND;VALUE=DATE:20250622
DTSTAMP:20260424T114811
CREATED:20250609T234915Z
LAST-MODIFIED:20250609T234915Z
UID:1080-1750464000-1750550399@iskconnorth.com
SUMMARY:Barrie RY
DESCRIPTION:
URL:https://iskconnorth.com/event/barrie-ry/
CATEGORIES:Ratha Yatra
END:VEVENT
BEGIN:VEVENT
DTSTART;VALUE=DATE:20250607
DTEND;VALUE=DATE:20250608
DTSTAMP:20260424T114811
CREATED:20250318T194126Z
LAST-MODIFIED:20250327T163856Z
UID:845-1749254400-1749340799@iskconnorth.com
SUMMARY:Halifax RY
DESCRIPTION:
URL:https://iskconnorth.com/event/halifax-ry/
CATEGORIES:Ratha Yatra
END:VEVENT
BEGIN:VEVENT
DTSTART;VALUE=DATE:20250417
DTEND;VALUE=DATE:20250421
DTSTAMP:20260424T114811
CREATED:20250118T215423Z
LAST-MODIFIED:20250218T204020Z
UID:698-1744848000-1745193599@iskconnorth.com
SUMMARY:ISKCON Leadership Management Course
DESCRIPTION:
URL:https://iskconnorth.com/event/iskcon-leadership-management-course/
CATEGORIES:Training
END:VEVENT
BEGIN:VEVENT
DTSTART;VALUE=DATE:20250405
DTEND;VALUE=DATE:20250406
DTSTAMP:20260424T114811
CREATED:20250118T221712Z
LAST-MODIFIED:20250218T203853Z
UID:709-1743811200-1743897599@iskconnorth.com
SUMMARY:ITSO - ISKCON Temple of Southern Ontario Meeting
DESCRIPTION:Meeting in Muskoka
URL:https://iskconnorth.com/event/iskcon-temple-of-southern-ontario-itso/
CATEGORIES:Meeting
END:VEVENT
END:VCALENDAR