BEGIN:VCALENDAR
VERSION:2.0
PRODID:-//ISKCON north - ECPv6.10.1.1//NONSGML v1.0//EN
CALSCALE:GREGORIAN
METHOD:PUBLISH
X-WR-CALNAME:ISKCON north
X-ORIGINAL-URL:https://iskconnorth.com
X-WR-CALDESC:Events for ISKCON north
REFRESH-INTERVAL;VALUE=DURATION:PT1H
X-Robots-Tag:noindex
X-PUBLISHED-TTL:PT1H
BEGIN:VTIMEZONE
TZID:America/Toronto
BEGIN:DAYLIGHT
TZOFFSETFROM:-0500
TZOFFSETTO:-0400
TZNAME:EDT
DTSTART:20260308T070000
END:DAYLIGHT
BEGIN:STANDARD
TZOFFSETFROM:-0400
TZOFFSETTO:-0500
TZNAME:EST
DTSTART:20261101T060000
END:STANDARD
END:VTIMEZONE
BEGIN:VEVENT
DTSTART;VALUE=DATE:20260725
DTEND;VALUE=DATE:20260726
DTSTAMP:20260424T113724
CREATED:20260114T235154Z
LAST-MODIFIED:20260114T235154Z
UID:1290-1784937600-1785023999@iskconnorth.com
SUMMARY:Edmonton RY
DESCRIPTION:
URL:https://iskconnorth.com/event/edmonton-ry/
CATEGORIES:Ratha Yatra
END:VEVENT
BEGIN:VEVENT
DTSTART;VALUE=DATE:20260725
DTEND;VALUE=DATE:20260726
DTSTAMP:20260424T113724
CREATED:20260114T235653Z
LAST-MODIFIED:20260420T220713Z
UID:1292-1784937600-1785023999@iskconnorth.com
SUMMARY:Sault Ste Marie Festival of Colours
DESCRIPTION:
URL:https://iskconnorth.com/event/saulte-ste-marie-festival-of-colors/
CATEGORIES:Festival of Colors
END:VEVENT
BEGIN:VEVENT
DTSTART;VALUE=DATE:20260725
DTEND;VALUE=DATE:20260726
DTSTAMP:20260424T113724
CREATED:20260114T235805Z
LAST-MODIFIED:20260114T235805Z
UID:1294-1784937600-1785023999@iskconnorth.com
SUMMARY:Stouffville RY
DESCRIPTION:
URL:https://iskconnorth.com/event/stouffville-ry-2/
CATEGORIES:Ratha Yatra
END:VEVENT
BEGIN:VEVENT
DTSTART;VALUE=DATE:20260725
DTEND;VALUE=DATE:20260726
DTSTAMP:20260424T113724
CREATED:20260420T221554Z
LAST-MODIFIED:20260420T221554Z
UID:1341-1784937600-1785023999@iskconnorth.com
SUMMARY:Brampton RY
DESCRIPTION:
URL:https://iskconnorth.com/event/brampton-ry-2/
CATEGORIES:Ratha Yatra
END:VEVENT
BEGIN:VEVENT
DTSTART;VALUE=DATE:20260725
DTEND;VALUE=DATE:20260726
DTSTAMP:20260424T113724
CREATED:20260420T221630Z
LAST-MODIFIED:20260420T222150Z
UID:1345-1784937600-1785023999@iskconnorth.com
SUMMARY:Vancouver Festival of Colours
DESCRIPTION:
URL:https://iskconnorth.com/event/vancouver-festival-of-colours/
CATEGORIES:Festival of Colors
END:VEVENT
END:VCALENDAR