BEGIN:VCALENDAR
VERSION:2.0
PRODID:-//ISKCON north - ECPv6.10.1.1//NONSGML v1.0//EN
CALSCALE:GREGORIAN
METHOD:PUBLISH
X-ORIGINAL-URL:https://iskconnorth.com
X-WR-CALDESC:Events for ISKCON north
REFRESH-INTERVAL;VALUE=DURATION:PT1H
X-Robots-Tag:noindex
X-PUBLISHED-TTL:PT1H
BEGIN:VTIMEZONE
TZID:America/Toronto
BEGIN:DAYLIGHT
TZOFFSETFROM:-0500
TZOFFSETTO:-0400
TZNAME:EDT
DTSTART:20250309T070000
END:DAYLIGHT
BEGIN:STANDARD
TZOFFSETFROM:-0400
TZOFFSETTO:-0500
TZNAME:EST
DTSTART:20251102T060000
END:STANDARD
END:VTIMEZONE
BEGIN:VEVENT
DTSTART;TZID=America/Toronto:20251106T080000
DTEND;TZID=America/Toronto:20251109T170000
DTSTAMP:20260424T144330
CREATED:20250118T221803Z
LAST-MODIFIED:20250118T222334Z
UID:711-1762416000-1762707600@iskconnorth.com
SUMMARY:Zone 1 Leadership Meeting
DESCRIPTION:Montreal
URL:https://iskconnorth.com/event/zone-1-leadership-meeting/
CATEGORIES:Meeting
END:VEVENT
END:VCALENDAR